BEGIN:VCALENDAR
VERSION:2.0
PRODID:GlueUp
CALSCALE:GREGORIAN
BEGIN:VTIMEZONE
TZID:UTC
BEGIN:STANDARD
DTSTART:19700101T000000
TZOFFSETFROM:+0000
TZOFFSETTO:+0000
TZNAME:UTC
END:STANDARD
END:VTIMEZONE
BEGIN:VEVENT
TZ:+00
ORGANIZER;CN=谭曦:MAILTO:tanx@jitri.org
UID:34525-1776612798@https://icim.glueup.cn
DTSTAMP:20260419T153318Z
DTSTART:20211209T010000Z
DTEND:20211209T040000Z
SUMMARY:Forum 1-3B Forum on Empowering the Development of Iron and Steel Metallurgy Industry Through Intelligent Manufacturing
DESCRIPTION:Forum 1-3B Forum on Empowering the Development of Iron and Steel Metallurgy Industry Through Intelligent Manufacturing by International Coalition of Intelligent Manufacturing\n\nDec 9, 2021 (09:00 - 12:00)(GMT+8)\n\nFor more information, click here: https://icim.glueup.cn/my/events/34525
LOCATION:Xinhua Media (GDH International) Hotel - 363 Middle Jiangdong Road (Jiangdong Zhong Lu) Jianye District Nanjing 210000 China Nanjing - Jiangsu - China
BEGIN:VALARM
TRIGGER:-PT48H
REPEAT:4
DURATION:PT30M
ACTION:DISPLAY
END:VALARM
END:VEVENT
END:VCALENDAR