BEGIN:VCALENDAR
VERSION:2.0
PRODID:GlueUp
CALSCALE:GREGORIAN
BEGIN:VTIMEZONE
TZID:UTC
BEGIN:STANDARD
DTSTART:19700101T000000
TZOFFSETFROM:+0000
TZOFFSETTO:+0000
TZNAME:UTC
END:STANDARD
END:VTIMEZONE
BEGIN:VEVENT
TZ:+00
ORGANIZER;CN=杜文博:MAILTO:duwb@cmes.org
UID:45732-1777153499@https://icim.glueup.cn
DTSTAMP:20260425T214459Z
DTSTART:20241219T060000Z
DTEND:20241219T090000Z
SUMMARY:Communication Forum of S&T Progress in Intelligent Manufacturing
DESCRIPTION:Communication Forum of S&T Progress in Intelligent Manufacturing by International Coalition of Intelligent Manufacturing\n\nDec 19, 2024 (14:00 - 17:00)(GMT+8)\n\nFor more information, click here: https://icim.glueup.cn/my/events/45732
LOCATION:Nanjing International Expo Center - Nanjing International Expo Center - No.300 Jiangdong Middle Road Nanjing - Jiangsu - China
BEGIN:VALARM
TRIGGER:-PT48H
REPEAT:4
DURATION:PT30M
ACTION:DISPLAY
END:VALARM
END:VEVENT
END:VCALENDAR